BEGIN:VCALENDAR
VERSION:2.0
PRODID:-//https://librecompetencia.uc.cl///NONSGML kigkonsult.se iCalcreator 2.10.15//
METHOD:PUBLISH
BEGIN:VEVENT
UID:20260423T002833UTC-8861I8E3Dg@https://librecompetencia.uc.cl/
DTSTAMP:20260423T002833Z
DESCRIPTION: https://librecompetencia.uc.cl/actualidad/agenda/evento/9-conv
 ersatorio-agenda-anti-abusos-proyecto-anti-colusion
DTSTART:20200529T170000Z
DTEND:20200529T190000Z
LOCATION: ()
SUMMARY:Conversatorio. Agenda Anti Abusos: Proyecto Anti Colusión
URL:https://librecompetencia.uc.cl/actualidad/agenda/evento/9-conversatorio
 -agenda-anti-abusos-proyecto-anti-colusion
END:VEVENT
END:VCALENDAR
