BEGIN:VCALENDAR
VERSION:2.0
PRODID:-//https://librecompetencia.uc.cl///NONSGML kigkonsult.se iCalcreator 2.10.15//
METHOD:PUBLISH
BEGIN:VEVENT
UID:20260423T002832UTC-5357hvdUvu@https://librecompetencia.uc.cl/
DTSTAMP:20260423T002832Z
DESCRIPTION: https://librecompetencia.uc.cl/actualidad/agenda/evento/21-reg
 ulacion-de-precios-de-los-medicamentos-en-chile
DTSTART:20220615T090000Z
DTEND:20220617T103000Z
LOCATION:Zoom ()
SUMMARY:Regulación de Precios de los Medicamentos en Chile. 
URL:https://librecompetencia.uc.cl/actualidad/agenda/evento/21-regulacion-d
 e-precios-de-los-medicamentos-en-chile
END:VEVENT
END:VCALENDAR
