BEGIN:VCALENDAR
VERSION:2.0
PRODID:-//https://librecompetencia.uc.cl///NONSGML kigkonsult.se iCalcreator 2.10.15//
METHOD:PUBLISH
BEGIN:VEVENT
UID:20260423T003053UTC-49534ovXMV@https://librecompetencia.uc.cl/
DTSTAMP:20260423T003053Z
DESCRIPTION: https://librecompetencia.uc.cl/actualidad/agenda/evento/17-tal
 ler-legislativo-una-mirada-a-la-encuesta-sobre-el-sistema-de-libre-compete
 ncia-chileno-y-el-proyecto-anti-colusion-plcuc-lyd
DTSTART:20200827T090000Z
DTEND:20200827T103000Z
LOCATION:Zoom ()
SUMMARY:Taller Legislativo 'Una mirada a la encuesta sobre el sistema de li
 bre competencia chileno y el Proyecto Anti Colusión'. PLCUC-LYD
URL:https://librecompetencia.uc.cl/actualidad/agenda/evento/17-taller-legis
 lativo-una-mirada-a-la-encuesta-sobre-el-sistema-de-libre-competencia-chil
 eno-y-el-proyecto-anti-colusion-plcuc-lyd
END:VEVENT
END:VCALENDAR
