BEGIN:VCALENDAR
VERSION:2.0
PRODID:-//https://librecompetencia.uc.cl///NONSGML kigkonsult.se iCalcreator 2.10.15//
METHOD:PUBLISH
BEGIN:VEVENT
UID:20260423T034332UTC-95736SgvUG@https://librecompetencia.uc.cl/
DTSTAMP:20260423T034332Z
DESCRIPTION: https://librecompetencia.uc.cl/actualidad/agenda/evento/15-wor
 kshop-proteccion-de-datos-personales-y-libre-competencia
DTSTART:20200729T000000Z
DTEND:20200730T123000Z
LOCATION:Casa Central UC. Avenida Libertador Bernardo Ohiggins 390\, Santia
 go ()
SUMMARY:Workshop: Protección de Datos Personales y Libre Competencia
URL:https://librecompetencia.uc.cl/actualidad/agenda/evento/15-workshop-pro
 teccion-de-datos-personales-y-libre-competencia
END:VEVENT
END:VCALENDAR
