BEGIN:VCALENDAR
VERSION:2.0
PRODID:-//https://librecompetencia.uc.cl///NONSGML kigkonsult.se iCalcreator 2.10.15//
METHOD:PUBLISH
BEGIN:VEVENT
UID:20260423T002939UTC-9661u73wnF@https://librecompetencia.uc.cl/
DTSTAMP:20260423T002939Z
DESCRIPTION: https://librecompetencia.uc.cl/actualidad/agenda/evento/13-sem
 inario-regulacion-de-precios-en-el-mercado-de-los-medicamentos
DTSTART:20200717T170000Z
DTEND:20200717T183000Z
LOCATION:Streaming ()
SUMMARY:Seminario: 'Regulación de Precios en el Mercado de los Medicamentos
 '
URL:https://librecompetencia.uc.cl/actualidad/agenda/evento/13-seminario-re
 gulacion-de-precios-en-el-mercado-de-los-medicamentos
END:VEVENT
END:VCALENDAR
